BEGIN:VCALENDAR
VERSION:2.0
PRODID:-//Coriander &amp; Lime - ECPv6.15.15//NONSGML v1.0//EN
CALSCALE:GREGORIAN
METHOD:PUBLISH
X-WR-CALNAME:Coriander &amp; Lime
X-ORIGINAL-URL:https://corianderandlime.co.uk
X-WR-CALDESC:Events for Coriander &amp; Lime
REFRESH-INTERVAL;VALUE=DURATION:PT1H
X-Robots-Tag:noindex
X-PUBLISHED-TTL:PT1H
BEGIN:VTIMEZONE
TZID:UTC
BEGIN:STANDARD
TZOFFSETFROM:+0000
TZOFFSETTO:+0000
TZNAME:UTC
DTSTART:20230101T000000
END:STANDARD
END:VTIMEZONE
BEGIN:VEVENT
DTSTART;TZID=UTC:20240608T113000
DTEND;TZID=UTC:20240608T150000
DTSTAMP:20260421T150241
CREATED:20240115T193318Z
LAST-MODIFIED:20240115T193318Z
UID:1589-1717846200-1717858800@corianderandlime.co.uk
SUMMARY:Private event
DESCRIPTION:
URL:https://corianderandlime.co.uk/event/private-event-2/
END:VEVENT
END:VCALENDAR