BEGIN:VCALENDAR
VERSION:2.0
PRODID:-//Coriander &amp; Lime - ECPv6.15.15//NONSGML v1.0//EN
CALSCALE:GREGORIAN
METHOD:PUBLISH
X-WR-CALNAME:Coriander &amp; Lime
X-ORIGINAL-URL:https://corianderandlime.co.uk
X-WR-CALDESC:Events for Coriander &amp; Lime
REFRESH-INTERVAL;VALUE=DURATION:PT1H
X-Robots-Tag:noindex
X-PUBLISHED-TTL:PT1H
BEGIN:VTIMEZONE
TZID:UTC
BEGIN:STANDARD
TZOFFSETFROM:+0000
TZOFFSETTO:+0000
TZNAME:UTC
DTSTART:20240101T000000
END:STANDARD
END:VTIMEZONE
BEGIN:VEVENT
DTSTART;TZID=UTC:20250105T120000
DTEND;TZID=UTC:20250105T150000
DTSTAMP:20260421T181009
CREATED:20241124T193450Z
LAST-MODIFIED:20241124T193450Z
UID:1676-1736078400-1736089200@corianderandlime.co.uk
SUMMARY:Catering
DESCRIPTION:
URL:https://corianderandlime.co.uk/event/catering-2/
END:VEVENT
END:VCALENDAR