BEGIN:VCALENDAR
VERSION:2.0
PRODID:-//Coriander &amp; Lime - ECPv6.15.15//NONSGML v1.0//EN
CALSCALE:GREGORIAN
METHOD:PUBLISH
X-ORIGINAL-URL:https://corianderandlime.co.uk
X-WR-CALDESC:Events for Coriander &amp; Lime
REFRESH-INTERVAL;VALUE=DURATION:PT1H
X-Robots-Tag:noindex
X-PUBLISHED-TTL:PT1H
BEGIN:VTIMEZONE
TZID:UTC
BEGIN:STANDARD
TZOFFSETFROM:+0000
TZOFFSETTO:+0000
TZNAME:UTC
DTSTART:20240101T000000
END:STANDARD
END:VTIMEZONE
BEGIN:VEVENT
DTSTART;TZID=UTC:20250517T090000
DTEND;TZID=UTC:20250517T140000
DTSTAMP:20260419T082909
CREATED:20250328T141445Z
LAST-MODIFIED:20250328T141526Z
UID:1687-1747472400-1747490400@corianderandlime.co.uk
SUMMARY:Nth Wootton Village Market
DESCRIPTION:
URL:https://corianderandlime.co.uk/event/nth-wootton-village-market-5/
LOCATION:North Wootton\, 46 Priory Lane\, North Wootton\, Kings Lynn\, PE30 3PT\, United Kingdom
END:VEVENT
END:VCALENDAR