BEGIN:VCALENDAR
VERSION:2.0
PRODID:-//Coriander &amp; Lime - ECPv6.15.15//NONSGML v1.0//EN
CALSCALE:GREGORIAN
METHOD:PUBLISH
X-WR-CALNAME:Coriander &amp; Lime
X-ORIGINAL-URL:https://corianderandlime.co.uk
X-WR-CALDESC:Events for Coriander &amp; Lime
REFRESH-INTERVAL;VALUE=DURATION:PT1H
X-Robots-Tag:noindex
X-PUBLISHED-TTL:PT1H
BEGIN:VTIMEZONE
TZID:UTC
BEGIN:STANDARD
TZOFFSETFROM:+0000
TZOFFSETTO:+0000
TZNAME:UTC
DTSTART:20200101T000000
END:STANDARD
END:VTIMEZONE
BEGIN:VEVENT
DTSTART;TZID=UTC:20210925T190000
DTEND;TZID=UTC:20210925T190000
DTSTAMP:20260422T022718
CREATED:20210919T192743Z
LAST-MODIFIED:20210919T195245Z
UID:1176-1632596400-1632596400@corianderandlime.co.uk
SUMMARY:Pop Up Evening - North Creake
DESCRIPTION:Join us for a Pop Up evening at the Jolly Farmers. Contact the Jolly Farmers to buy your ticket now!
URL:https://corianderandlime.co.uk/event/pop-up-evening/
LOCATION:Jolly Farmers\, 1 Burnham Road\, North Creake\, Norfolk\, NR21 9JW\, United Kingdom
ATTACH;FMTTYPE=image/jpeg:https://corianderandlime.co.uk/wp-content/uploads/2021/06/IMG-20210621-WA0003.jpg
END:VEVENT
END:VCALENDAR