BEGIN:VCALENDAR
VERSION:2.0
PRODID:-//Coriander &amp; Lime - ECPv6.15.15//NONSGML v1.0//EN
CALSCALE:GREGORIAN
METHOD:PUBLISH
X-ORIGINAL-URL:https://corianderandlime.co.uk
X-WR-CALDESC:Events for Coriander &amp; Lime
REFRESH-INTERVAL;VALUE=DURATION:PT1H
X-Robots-Tag:noindex
X-PUBLISHED-TTL:PT1H
BEGIN:VTIMEZONE
TZID:UTC
BEGIN:STANDARD
TZOFFSETFROM:+0000
TZOFFSETTO:+0000
TZNAME:UTC
DTSTART:20230101T000000
END:STANDARD
END:VTIMEZONE
BEGIN:VEVENT
DTSTART;TZID=UTC:20240412T183000
DTEND;TZID=UTC:20240412T213000
DTSTAMP:20260417T120435
CREATED:20240225T151719Z
LAST-MODIFIED:20240225T151719Z
UID:1628-1712946600-1712957400@corianderandlime.co.uk
SUMMARY:Private event
DESCRIPTION:
URL:https://corianderandlime.co.uk/event/private-event-6/
END:VEVENT
BEGIN:VEVENT
DTSTART;TZID=UTC:20240414T120000
DTEND;TZID=UTC:20240414T130000
DTSTAMP:20260417T120435
CREATED:20240225T152245Z
LAST-MODIFIED:20240225T152245Z
UID:1630-1713096000-1713099600@corianderandlime.co.uk
SUMMARY:Lunch - Yoga with Clare
DESCRIPTION:
URL:https://corianderandlime.co.uk/event/lunch-yoga-with-clare/
END:VEVENT
BEGIN:VEVENT
DTSTART;TZID=UTC:20240420T090000
DTEND;TZID=UTC:20240420T140000
DTSTAMP:20260417T120435
CREATED:20240115T193024Z
LAST-MODIFIED:20240115T193024Z
UID:1585-1713603600-1713621600@corianderandlime.co.uk
SUMMARY:North Wootton Village Market
DESCRIPTION:Come & see us from 10am\, we will be bringing a selection of delish Indian foods & more.
URL:https://corianderandlime.co.uk/event/north-wootton-village-market-17/
END:VEVENT
END:VCALENDAR