BEGIN:VCALENDAR
VERSION:2.0
PRODID:-//Coriander &amp; Lime - ECPv6.15.15//NONSGML v1.0//EN
CALSCALE:GREGORIAN
METHOD:PUBLISH
X-ORIGINAL-URL:https://corianderandlime.co.uk
X-WR-CALDESC:Events for Coriander &amp; Lime
REFRESH-INTERVAL;VALUE=DURATION:PT1H
X-Robots-Tag:noindex
X-PUBLISHED-TTL:PT1H
BEGIN:VTIMEZONE
TZID:UTC
BEGIN:STANDARD
TZOFFSETFROM:+0000
TZOFFSETTO:+0000
TZNAME:UTC
DTSTART:20230101T000000
END:STANDARD
END:VTIMEZONE
BEGIN:VEVENT
DTSTART;TZID=UTC:20240608T113000
DTEND;TZID=UTC:20240608T150000
DTSTAMP:20260421T132115
CREATED:20240115T193318Z
LAST-MODIFIED:20240115T193318Z
UID:1589-1717846200-1717858800@corianderandlime.co.uk
SUMMARY:Private event
DESCRIPTION:
URL:https://corianderandlime.co.uk/event/private-event-2/
END:VEVENT
BEGIN:VEVENT
DTSTART;TZID=UTC:20240609T113000
DTEND;TZID=UTC:20240609T150000
DTSTAMP:20260421T132115
CREATED:20240115T193616Z
LAST-MODIFIED:20240115T193624Z
UID:1594-1717932600-1717945200@corianderandlime.co.uk
SUMMARY:Private event
DESCRIPTION:
URL:https://corianderandlime.co.uk/event/private-event-4/
END:VEVENT
BEGIN:VEVENT
DTSTART;TZID=UTC:20240614T183000
DTEND;TZID=UTC:20240614T210000
DTSTAMP:20260421T132115
CREATED:20240115T194033Z
LAST-MODIFIED:20240115T194039Z
UID:1596-1718389800-1718398800@corianderandlime.co.uk
SUMMARY:Yoga Retreat - catering
DESCRIPTION:
URL:https://corianderandlime.co.uk/event/yoga-retreat-catering/
END:VEVENT
BEGIN:VEVENT
DTSTART;TZID=UTC:20240615T090000
DTEND;TZID=UTC:20240615T140000
DTSTAMP:20260421T132115
CREATED:20240115T193402Z
LAST-MODIFIED:20240115T193501Z
UID:1591-1718442000-1718460000@corianderandlime.co.uk
SUMMARY:North Wootton Village Market
DESCRIPTION:
URL:https://corianderandlime.co.uk/event/private-event-3/
END:VEVENT
BEGIN:VEVENT
DTSTART;TZID=UTC:20240615T110000
DTEND;TZID=UTC:20240615T213000
DTSTAMP:20260421T132115
CREATED:20240115T194145Z
LAST-MODIFIED:20240115T194145Z
UID:1598-1718449200-1718487000@corianderandlime.co.uk
SUMMARY:Yoga Retreat - catering
DESCRIPTION:
URL:https://corianderandlime.co.uk/event/yoga-retreat-catering-2/
END:VEVENT
BEGIN:VEVENT
DTSTART;TZID=UTC:20240623T100000
DTEND;TZID=UTC:20240623T140000
DTSTAMP:20260421T132115
CREATED:20240115T191651Z
LAST-MODIFIED:20240115T191651Z
UID:1570-1719136800-1719151200@corianderandlime.co.uk
SUMMARY:Marshland Farmers Market
DESCRIPTION:Come & see us from 10am\, we will be bringing a selection of delish Indian foods & more.
URL:https://corianderandlime.co.uk/event/marshland-farmers-market-11/
LOCATION:Marshland Hall\, Marshland Hall - Smeeth Road\, Wisbech\, PE14 8JB\, United Kingdom
END:VEVENT
BEGIN:VEVENT
DTSTART;TZID=UTC:20240629T183000
DTEND;TZID=UTC:20240629T220000
DTSTAMP:20260421T132115
CREATED:20240225T152449Z
LAST-MODIFIED:20240225T152449Z
UID:1632-1719685800-1719698400@corianderandlime.co.uk
SUMMARY:Catering event
DESCRIPTION:
URL:https://corianderandlime.co.uk/event/catering-event/
END:VEVENT
END:VCALENDAR